BEGIN:VCALENDAR
VERSION:2.0
PRODID:icalendar-ruby
CALSCALE:GREGORIAN
METHOD:PUBLISH
BEGIN:VEVENT
DTSTAMP:20260422T012059Z
UID:8-1041606@portageupc.com
DTSTART:20260903T000000Z
DTEND:20260903T010000Z
CLASS:PUBLIC
CREATED:20260421T192954
DESCRIPTION:Wednesday Night Study
LAST-MODIFIED:20260421T192954
LOCATION:Portage UPC
SUMMARY:Wednesday Night Study
URL;VALUE=URI:https://www.portageupc.com/events/wednesday-night-study/2026-
 09-02
END:VEVENT
END:VCALENDAR
