BEGIN:VCALENDAR
VERSION:2.0
PRODID:icalendar-ruby
CALSCALE:GREGORIAN
METHOD:PUBLISH
BEGIN:VEVENT
DTSTAMP:20260422T081321Z
UID:8-1041610@portageupc.com
DTSTART:20261001T000000Z
DTEND:20261001T010000Z
CLASS:PUBLIC
CREATED:20260421T192954
DESCRIPTION:Wednesday Night Study
LAST-MODIFIED:20260421T192954
LOCATION:Portage UPC
SUMMARY:Wednesday Night Study
URL;VALUE=URI:https://www.portageupc.com/events/wednesday-night-study/2026-
 09-30
END:VEVENT
END:VCALENDAR
