BEGIN:VCALENDAR
VERSION:2.0
PRODID:icalendar-ruby
CALSCALE:GREGORIAN
METHOD:PUBLISH
BEGIN:VEVENT
DTSTAMP:20260422T112535Z
UID:8-1041612@portageupc.com
DTSTART:20261015T000000Z
DTEND:20261015T010000Z
CLASS:PUBLIC
CREATED:20260421T192954
DESCRIPTION:Wednesday Night Study
LAST-MODIFIED:20260421T192954
LOCATION:Portage UPC
SUMMARY:Wednesday Night Study
URL;VALUE=URI:https://www.portageupc.com/events/wednesday-night-study/2026-
 10-14
END:VEVENT
END:VCALENDAR
