BEGIN:VCALENDAR
VERSION:2.0
PRODID:icalendar-ruby
CALSCALE:GREGORIAN
METHOD:PUBLISH
BEGIN:VEVENT
DTSTAMP:20260422T125342Z
UID:8-1042324@portageupc.com
DTSTART:20261022T000000Z
DTEND:20261022T010000Z
CLASS:PUBLIC
CREATED:20260422T063150
DESCRIPTION:Wednesday Night Study
LAST-MODIFIED:20260422T063150
LOCATION:Portage UPC
SUMMARY:Wednesday Night Study
URL;VALUE=URI:https://www.portageupc.com/events/wednesday-night-study/2026-
 10-21
END:VEVENT
END:VCALENDAR
