BEGIN:VCALENDAR
VERSION:2.0
PRODID:icalendar-ruby
CALSCALE:GREGORIAN
METHOD:PUBLISH
BEGIN:VEVENT
DTSTAMP:20260422T142820Z
UID:8-1043036@portageupc.com
DTSTART:20261029T000000Z
DTEND:20261029T010000Z
CLASS:PUBLIC
CREATED:20260422T092641
DESCRIPTION:Wednesday Night Study
LAST-MODIFIED:20260422T092641
LOCATION:Portage UPC
SUMMARY:Wednesday Night Study
URL;VALUE=URI:https://www.portageupc.com/events/wednesday-night-study/2026-
 10-28
END:VEVENT
END:VCALENDAR
